BEGIN:VCALENDAR
VERSION:2.0
PRODID:-//eventon.com NONSGML v1.0//EN
CALSCALE:GREGORIAN
METHOD:PUBLISH
BEGIN:VEVENT
UID:69e5ad396db43
DTSTAMP:20260420T043609Z
DTSTART:20241209T183000Z
DTEND:20241209T220000Z
LOCATION:
SUMMARY:Scène Ouverte au Couz'in
DESCRIPTION:Le Couz'in accueille Ukulélé in Marseille pour une Scène Ouv
 erte Ukulélé. Ouvert à TOUS\,  une seule règle : au moins UN ukulélé 
 sur scène ! Révisez vos plus beaux morceaux !\nhttps://www.ukuleleinmarse
 ille.fr/events/scene-ouverte-au-couzin-copy/
URL:https://www.ukuleleinmarseille.fr/events/scene-ouverte-au-couzin-copy/
END:VEVENT
END:VCALENDAR