BEGIN:VCALENDAR
VERSION:2.0
PRODID:-//eventon.com NONSGML v1.0//EN
CALSCALE:GREGORIAN
METHOD:PUBLISH
BEGIN:VEVENT
UID:69ea325720d18
DTSTAMP:20260423T145311Z
DTSTART:20250529T100000Z
DTEND:20250601T120000Z
LOCATION:
SUMMARY:FIESTALELE 2025
DESCRIPTION:https://www.ukuleleinmarseille.fr/fiestalele-2025/\nhttps://www
 .ukuleleinmarseille.fr/events/fiestalele-2025/
URL:https://www.ukuleleinmarseille.fr/events/fiestalele-2025/
END:VEVENT
END:VCALENDAR